BEGIN:VCALENDAR
VERSION:2.0
PRODID:-//eventon.com NONSGML v1.0//EN
CALSCALE:GREGORIAN
METHOD:PUBLISH
BEGIN:VEVENT
UID:69e60356b1a93
DTSTAMP:20260420T104334Z
DTSTART:20241007T150000Z
DTEND:20241007T180000Z
LOCATION:Tevex Logistics GmbH In der Mark 2\,  33378 Rheda-Wiedenbrück
SUMMARY:Logistik.bewegen 2024 – Innovationen der Extralogistik
DESCRIPTION:Logistik.bewegen 2024 – Innovationen der Extralogistik Durch 
 die Verkehrswende und technologische Fortschritte erlebt die Logistikbranch
 e aktuell weitreichende Veränderungen. Welche Chancen entstehen dabei für
  Logistiker:innen in der Region? Logistik.bewegen betrachtet die Innovation
 en von der Entstehung in der Spitzenforschung bis zur Anwendung in Start-Up
 s und Traditionsunternehmen. Dieses Jahr dreht sich dabei alles[..]\nhttps:
 //www.unternehmen-owl.de/veranstaltung/logistik-bewegen-2024/
URL:https://www.unternehmen-owl.de/veranstaltung/logistik-bewegen-2024/
END:VEVENT
END:VCALENDAR