BEGIN:VCALENDAR
VERSION:2.0
PRODID:-//eventon.com NONSGML v1.0//EN
CALSCALE:GREGORIAN
METHOD:PUBLISH
BEGIN:VEVENT
UID:69e6cd9e5a157
DTSTAMP:20260421T010638Z
DTSTART:20220201T153000Z
DTEND:20220201T171500Z
LOCATION:
SUMMARY:DZ BANK Wirtschaftsprognose 2022
DESCRIPTION:Die weltweiten Ereignisse sind komplex. Klimawandel\,  Pandemie
 \,  politische Krisen: Diese und viele weitere Themen nehmen Einfluss auf d
 ie wirtschaftliche Entwicklung. Die spannende Frage für uns alle und für 
 Sie als Unternehmen im Besonderen ist: Wie wird sich das Wirtschaftsjahr 20
 22 gestalten? Welche Prognosen lassen sich mit Blick auf die Zins-[..]\nhtt
 ps://www.unternehmen-owl.de/veranstaltung/wirtschaftsprognose2022/
URL:https://www.unternehmen-owl.de/veranstaltung/wirtschaftsprognose2022/
END:VEVENT
END:VCALENDAR