BEGIN:VCALENDAR
VERSION:2.0
PRODID:-//eventon.com NONSGML v1.0//EN
CALSCALE:GREGORIAN
METHOD:PUBLISH
BEGIN:VEVENT
UID:69e7482571bb8
DTSTAMP:20260421T094925Z
DTSTART:20260702T160000Z
DTEND:20260702T180000Z
LOCATION:Volksbank Regionalzentrum Bielefeld Kesselbrink 1\,  33602 Bielefeld
SUMMARY:Kostenlose Führung durch die Ausstellung SCHEIN&SEIN in Bielefeld
DESCRIPTION:Eine dialogische Führung mit Pastor Lars Hofnagel und Mitglied
 ern der STATTGALERIE durch die Ausstellung SCHEIN&amp;SEIN im Volksbank Reg
 ionalzentrum Bielefeld. Was bedeutet Schein &amp; Sein eigentlich? Mit die
 ser großen Frage beschäftigten sich insgesamt 53 Künstlerinnen und Küns
 tler für unsere neue Ausstellung und interpretierten die vielfältigen Ant
 worten in einer mannigfaltigen Auswahl an künstlerischen[..]\nhttps://www.
 unternehmen-owl.de/veranstaltung/fuehrung-2-2/
URL:https://www.unternehmen-owl.de/veranstaltung/fuehrung-2-2/
END:VEVENT
END:VCALENDAR