BEGIN:VCALENDAR
VERSION:2.0
PRODID:-//eventon.com NONSGML v1.0//EN
CALSCALE:GREGORIAN
METHOD:PUBLISH
BEGIN:VEVENT
UID:69e6f3513bd1e
DTSTAMP:20260421T034729Z
DTSTART:20260507T180000Z
DTEND:20260507T190000Z
LOCATION:Online
SUMMARY:DZ BANK Webkonferenz fÃ¼r Privatkunden - Bewegte Zeiten: Was kommt jetzt fÃ¼r Ihre Geldanlage?
DESCRIPTION:Bewegte Zeiten: Was kommt jetzt fÃ¼r Ihre Geldanlage? Die Welt 
 blickt gebannt auf die aktuellen Entwicklungen im Nahen Osten und die damit
  verbundenen geopolitischen und wirtschaftlichen Folgen. Ultimatum\,  VerlÃ
 ¤ngerung\,  Waffenruhe und â€¦ ? Es entsteht der Eindruck\,  dass niemand w
 eiÃŸ\,  was morgen passiert. Diese Situation spiegelt sich auch an den[..]\
 nhttps://www.unternehmen-owl.de/veranstaltung/bewegte-zeiten/
URL:https://www.unternehmen-owl.de/veranstaltung/bewegte-zeiten/
END:VEVENT
END:VCALENDAR