BEGIN:VCALENDAR
VERSION:2.0
PRODID:-//eventon.com NONSGML v1.0//EN
CALSCALE:GREGORIAN
METHOD:PUBLISH
BEGIN:VEVENT
UID:69e6f4120ed9d
DTSTAMP:20260421T035042Z
DTSTART:20260716T160000Z
DTEND:20260716T180000Z
LOCATION:Volksbank Bielefeld Kesselbrink 1\,  33602 Bielefeld
SUMMARY:Performance & Führung in der Volksbank-Lobby
DESCRIPTION:Einer von Bielefelds kreativen Orten ist die Volksbank-Lobby am
  Kesselbrink\,  in der laufend wechselnde Ausstellungen und spannende Event
 s stattfinden. Unsere Volksbank-Lobby ist Begegnungs- und Erlebnisraum für
  alle: Um nur mal zu gucken\,  einen gemütlichen Kaffee zu genießen\,  zu
 m Coworken und Entspannen und um tolle und faire Designprodukte zu entdecke
 n. Die[..]\nhttps://www.unternehmen-owl.de/veranstaltung/fuehrung/
URL:https://www.unternehmen-owl.de/veranstaltung/fuehrung/
END:VEVENT
END:VCALENDAR