BEGIN:VCALENDAR
VERSION:2.0
PRODID:-//eventon.com NONSGML v1.0//EN
CALSCALE:GREGORIAN
METHOD:PUBLISH
BEGIN:VEVENT
UID:69e6524aca39a
DTSTAMP:20260420T162026Z
DTSTART:20260430T160000Z
DTEND:20260430T180000Z
LOCATION:Regionalzentrum Gütersloh Friedrich-Ebert-Str. 73-75
SUMMARY:Kostenlose Führung durch die Ausstellung SCHEIN&SEIN in Gütersloh
DESCRIPTION:Eine dialogische Führung mit Pastor Lars Hofnagel und Mitglied
 ern der STATTGALERIE durch die Ausstellung SCHEIN&amp;SEIN im Volksbank Reg
 ionalzentrum Gütersloh. Was bedeutet Schein &amp; Sein eigentlich? Mit di
 eser großen Frage beschäftigten sich insgesamt 53 Künstlerinnen und Kün
 stler für unsere neue Ausstellung und interpretierten die vielfältigen An
 tworten in einer mannigfaltigen Auswahl an künstlerischen[..]\nhttps://www
 .unternehmen-owl.de/veranstaltung/fuehrung-2/
URL:https://www.unternehmen-owl.de/veranstaltung/fuehrung-2/
END:VEVENT
END:VCALENDAR